BEGIN:VCALENDAR
VERSION:2.0
PRODID:-//PGRSC - ECPv6.15.20//NONSGML v1.0//EN
CALSCALE:GREGORIAN
METHOD:PUBLISH
X-WR-CALNAME:PGRSC
X-ORIGINAL-URL:https://pgrsc.org
X-WR-CALDESC:Events for PGRSC
REFRESH-INTERVAL;VALUE=DURATION:PT1H
X-Robots-Tag:noindex
X-PUBLISHED-TTL:PT1H
BEGIN:VTIMEZONE
TZID:Pacific/Fiji
BEGIN:STANDARD
TZOFFSETFROM:+1200
TZOFFSETTO:+1200
TZNAME:+12
DTSTART:20250101T000000
END:STANDARD
END:VTIMEZONE
BEGIN:VEVENT
DTSTART;TZID=Pacific/Fiji:20260804T080000
DTEND;TZID=Pacific/Fiji:20260814T170000
DTSTAMP:20260423T185751
CREATED:20260105T010604Z
LAST-MODIFIED:20260105T010604Z
UID:5027-1785830400-1786726800@pgrsc.org
SUMMARY:IGARSS 2026
DESCRIPTION:Welcome to Washington D.C. IGARSS 2026!\nThe International Geoscience and Remote Sensing Symposium (IGARSS) is the flagship conference of the IEEE Geoscience and Remote Sensing Society (GRSS). On behalf of the Organizing Committee\, we are honored to invite you to attend the 46th IGARSS which is to be held in Washington\, D.C.\, the United States of America\, on 9-14 August 2026. \n \nThis year’s theme:\nThe theme of IGARSS 2026 is the Future of Earth Observations. IGARSS 2026 will examine the future Earth observation technologies for solving grand challenges faced by our Earth and society and promote collaborative global solutions using such technologies. IGARSS 2026 will provide an excellent experience for its attendees through strong technical and social programs\, and opportunities for collaboration regionally and globally.
URL:https://pgrsc.org/event/igarss-2026/
LOCATION:Washington Hilton – Conference Hotel & Venue\, 1919 Connecticut Avenue NW\, Washington\, DC\, 20009\, United States
CATEGORIES:Conference
ATTACH;FMTTYPE=image/png:https://pgrsc.org/wp-content/uploads/2026/01/ig_logo_blue.png
END:VEVENT
BEGIN:VEVENT
DTSTART;TZID=Pacific/Fiji:20260704T080000
DTEND;TZID=Pacific/Fiji:20260711T170000
DTSTAMP:20260423T185751
CREATED:20260105T005201Z
LAST-MODIFIED:20260105T005301Z
UID:5018-1783152000-1783789200@pgrsc.org
SUMMARY:ISPRS Congress 2026
DESCRIPTION:XXV ISPRS Congress 2026\nWe are pleased to announce that the ISPRS Congress is returning to Canada! At the XXIV Congress in Nice\, France\, the ISPRS General Assembly elected Canada to host the XXV ISPRS Congress in Toronto in 2026. The last Congress held in Canada was in Ottawa in 1972\, so this is a truly historic occasion. The 2026 Congress will take place at the Metro Toronto Convention Centre (MTCC) 4-11 July 2026. \n\nWhy Attend ISPRS 2026?\n\n\nExplore groundbreaking advancements and collaborative opportunities shaping the future of geospatial science and technology at ISPRS 2026. The Congress will bring together leading experts\, showcase cutting-edge research\, and foster dynamic discussions\, igniting progress and shaping the future landscape of geospatial technology and its applications in various industries and exhibitions. \n 
URL:https://pgrsc.org/event/isprs-congress-2026/
LOCATION:Metro Toronto Convention Centre (MTCC)\, 255 Front St W\, Toronto\, Ontario\, Canada
CATEGORIES:Congress
ATTACH;FMTTYPE=image/jpeg:https://pgrsc.org/wp-content/uploads/2026/01/isprs_2026.jpg
ORGANIZER;CN="ISPRS":MAILTO:isprs-pr-c4@isprs.org
END:VEVENT
BEGIN:VEVENT
DTSTART;TZID=Pacific/Fiji:20260629T080000
DTEND;TZID=Pacific/Fiji:20260703T170000
DTSTAMP:20260423T185751
CREATED:20260105T010002Z
LAST-MODIFIED:20260105T010003Z
UID:5023-1782720000-1783098000@pgrsc.org
SUMMARY:ISPRS SC Summer School 2026
DESCRIPTION:The ISPRS Student Consortium (SC) Summer School 2026 will be held at York University\, Toronto\, as a pre-congress event to the ISPRS Congress 2026. This year’s theme\, Geospatial Innovations for Climate Action\, will focus on equipping participants with cutting-edge knowledge and skills to leverage geospatial technologies for addressing climate change challenges. \n​This five-day program will combine theoretical learning\, hands-on training\, and collaborative problem-solving. The highlight will be a group innovation challenge on developing geospatial solutions for climate/environmental-related issues. The winning team will be invited to present their solution during the plenary session of the ISPRS Congress 2026. \nObjectives\n\n\n\n\n\n\nBuild capacity among young researchers and professionals in applying geospatial technologies for climate action. \n\n\nFoster collaboration and networking among an international cohort of students and early-career scientists. \n\n\nProvide a platform for creative and solution-oriented thinking towards climate-related issues. \n\n\nExpected Outcomes\n\n\n\nTrained participants capable of applying geospatial innovations for climate action. \n\n\nStrengthened global network of young geospatial professionals. \n\n\nProof-of-Concept solutions addressing climate/environmental issues. \n\n\nIncreased visibility of student and early-career contributions within the ISPRS Congress.
URL:https://pgrsc.org/event/isprs-sc-summer-school-2026/
LOCATION:York University\, Toronto\, Canada\, 4700 Keele St\,\, North York\, Ontario\, Canada
CATEGORIES:Summer School
ATTACH;FMTTYPE=image/avif:https://pgrsc.org/wp-content/uploads/2026/01/AdobeStock_85273655.avif
ORGANIZER;CN="ISPRS":MAILTO:isprs-pr-c4@isprs.org
END:VEVENT
BEGIN:VEVENT
DTSTART;TZID=Pacific/Fiji:20260526T080000
DTEND;TZID=Pacific/Fiji:20260528T170000
DTSTAMP:20260423T185751
CREATED:20260105T012254Z
LAST-MODIFIED:20260105T012255Z
UID:5043-1779782400-1779987600@pgrsc.org
SUMMARY:2026 GEO Symposium and GEO-21 Plenary
DESCRIPTION:Theme\n\n\nInvesting in Earth Intelligence for a Resilient Future \nObjectives\n\nThe 2026 GEO Symposium and GEO-21 Plenary will convene a broad community of stakeholders – from governments\, space agencies and\, research organizations to private sector innovators\, and development partners – for an in-depth exploration of how Earth Intelligence (EI) can drive transformative\, resilient solutions for people and the planet. \n\n\nTaking place at a pivotal moment in the implementation of GEO’s Post-2025 Strategy\, this year’s Symposium will focus on stimulating critical investment and action needed to support viable\, scalable\, and inclusive EI solutions across sectors. The programme will feature user stories that demonstrate the value of EI in solving real-world problems\, highlight open data and open knowledge as the foundation to create EI solutions\, benchmark best practices in co-designing products and services\, foster new partnerships through collaboration agreements and expressions of interest\, and mobilize investments that benefit users and GEO Work Programme activities alike.
URL:https://pgrsc.org/event/2026-geo-symposium-and-geo-21-plenary/
LOCATION:World Meteorological Organization (WMO)\, 7bis\, avenue de la Paix\, Geneva 2\, 211\, Switzerland
CATEGORIES:Symposium
ATTACH;FMTTYPE=image/jpeg:https://pgrsc.org/wp-content/uploads/2026/01/GEO_2026_Symposium_website_Banner_1200x240.jpg
ORGANIZER;CN="GEO":MAILTO:secretariat@geosec.org
END:VEVENT
BEGIN:VEVENT
DTSTART;TZID=Pacific/Fiji:20260427T080000
DTEND;TZID=Pacific/Fiji:20260501T170000
DTSTAMP:20260423T185751
CREATED:20260105T004231Z
LAST-MODIFIED:20260105T004418Z
UID:5012-1777276800-1777654800@pgrsc.org
SUMMARY:Geospatial World Forum 2026
DESCRIPTION:About GWF 2026\nOver the past decade\, the Geospatial World Forum (GWF) has emerged as a transformative platform—convening global leaders\, policy makers\, technology innovators\, and sectoral champions to build a shared vision for a geospatially empowered world. From data sovereignty to digital infrastructure\, and from climate action to AIdriven location intelligence\, GWF has helped shape how societies perceive\, value\, and utilize spatial knowledge. \nAs the world faces shifting geopolitical alignments\, digital disruption\, and urgent sustainability challenges\, GWF 2026 will address a defining trinity: Sovereignty\, Economy & Society—affirming geospatial’s place as an anchor of resilience\, equity\, and innovation. \n\n\nConference Theme\nSovereignty\, Economy & Society \nIn today’s interconnected and interdependent world\, sovereignty is no longer limited to political boundaries—it extends to data\, infrastructure\, and digital autonomy. At GWF 2026\, we explore how nations and communities are asserting spatial sovereignty to secure their interests\, enhance governance\, and define the rules of the digital era. \nAt the same time\, geospatial intelligence is reshaping economies—from Geospatial Knowledge Infrastructure to space and geospatial sovereignty\, and from digital supply chains to utilities and networks\, AEC\, agriculture\, defence\, and intelligence. As the global economy becomes increasingly data-driven\, geospatial knowledge is emerging as a cornerstone for inclusive\, sustainable\, and resilient growth. \nAnd at the heart of it all lies society—informed citizens\, empowered communities\, and equitable access to public services. Whether it’s climate resilience\, disaster response\, \, land rights\, health\, or urban planning\, geospatial infrastructure is enabling a more transparent\, participatory\, and resilient social contract. \nThe theme—Sovereignty\, Economy & Society—is not just a conversation; it’s a call to action. GWF 2026 invites global stakeholders to co-create strategies that uphold rights\, accelerate innovation\, and prioritize people.
URL:https://pgrsc.org/event/geospatial-world-forum-2026/
LOCATION:RAI Congress Centre\, Amsterdam\, Europaplein 24\, Amsterdam\, Netherlands
CATEGORIES:Conference
ATTACH;FMTTYPE=image/jpeg:https://pgrsc.org/wp-content/uploads/2026/01/gwf_2026.jpg
ORGANIZER;CN="GWF 2026 SECRETARIAT":MAILTO:info@geospatialworldforum.org
END:VEVENT
END:VCALENDAR